BEGIN:VCALENDAR
VERSION:2.0
PRODID:-//hacksw/handcal//NONSGML v1.0//EN
BEGIN:VEVENT
SUMMARY:Demi finale 2 D3 Play-off D3S - Matchs des 2emes 44-PBC-2 D3 contre 44-ALC-2 D3
UID:b020db60-b780-4b72-a3de-2915454e6585
DTSTART:20260426T220000Z
DTEND:20260427T220000Z
LOCATION:Localisation   
CATEGORIES:Sportif
STATUS:
URL;VALUE=URI:https://www.pornichetbadmintonclub.com/evenements/2026/04/27/demi-finale-2-d3-play-off-d3s-matchs-des-2emes-44-pbc-2-d3-contre-44-alc-2-d3-2438020
END:VEVENT
END:VCALENDAR
