BEGIN:VCALENDAR
VERSION:2.0
PRODID:-//hacksw/handcal//NONSGML v1.0//EN
BEGIN:VEVENT
SUMMARY:Quart de finale 3 D4 Play-down D4S – Matchs des 6es contre les 7es 44-PBC-4 D4 contre 44-BCSH-4 D4
UID:86e179e4-40af-46d2-9d3b-2822abd4611e
DTSTART:20260426T220000Z
DTEND:20260427T220000Z
LOCATION:Localisation   
CATEGORIES:Sportif
STATUS:
URL;VALUE=URI:https://www.pornichetbadmintonclub.com/evenements/2026/04/27/quart-de-finale-3-d4-play-down-d4s-matchs-des-6es-contre-les-7es-44-pbc-4-d4-contre-44-bcsh-4-d4-2439750
END:VEVENT
END:VCALENDAR
