BEGIN:VCALENDAR
VERSION:2.0
PRODID:-//hacksw/handcal//NONSGML v1.0//EN
BEGIN:VEVENT
SUMMARY:D1 Seconde phase - Poule C 44-ALBBG-1 D1 M contre 44-PBC-1 D1 M
UID:01be96e1-fca6-41e8-bd7a-1e58abb0ea55
DTSTART:20260312T193000Z
DTEND:20260312T230000Z
LOCATION:Localisation   
CATEGORIES:Sportif
STATUS:
URL;VALUE=URI:https://www.pornichetbadmintonclub.com/evenements/2026/03/12/d1-seconde-phase-poule-c-44-albbg-1-d1-m-contre-44-pbc-1-d1-m-2422802
END:VEVENT
BEGIN:VEVENT
SUMMARY:D1 Seconde phase - Poule C 44-PBC-1 D1 M contre 44-BC-2 D1 M
UID:88df0766-4f1a-4ba1-b512-a4b06806bb06
DTSTART:20260325T191500Z
DTEND:20260325T230000Z
LOCATION:Localisation   
CATEGORIES:Sportif
STATUS:
URL;VALUE=URI:https://www.pornichetbadmintonclub.com/evenements/2026/03/25/d1-seconde-phase-poule-c-44-pbc-1-d1-m-contre-44-bc-2-d1-m-2422803
END:VEVENT
END:VCALENDAR
